BEGIN:VCALENDAR
VERSION:2.0
PRODID:-//Nile Rodgers :: Official Website - ECPv6.15.18//NONSGML v1.0//EN
CALSCALE:GREGORIAN
METHOD:PUBLISH
X-WR-CALNAME:Nile Rodgers :: Official Website
X-ORIGINAL-URL:https://nilerodgers.net
X-WR-CALDESC:Events for Nile Rodgers :: Official Website
REFRESH-INTERVAL;VALUE=DURATION:PT1H
X-Robots-Tag:noindex
X-PUBLISHED-TTL:PT1H
BEGIN:VTIMEZONE
TZID:America/New_York
BEGIN:DAYLIGHT
TZOFFSETFROM:-0500
TZOFFSETTO:-0400
TZNAME:EDT
DTSTART:20250309T070000
END:DAYLIGHT
BEGIN:STANDARD
TZOFFSETFROM:-0400
TZOFFSETTO:-0500
TZNAME:EST
DTSTART:20251102T060000
END:STANDARD
BEGIN:DAYLIGHT
TZOFFSETFROM:-0500
TZOFFSETTO:-0400
TZNAME:EDT
DTSTART:20260308T070000
END:DAYLIGHT
BEGIN:STANDARD
TZOFFSETFROM:-0400
TZOFFSETTO:-0500
TZNAME:EST
DTSTART:20261101T060000
END:STANDARD
BEGIN:DAYLIGHT
TZOFFSETFROM:-0500
TZOFFSETTO:-0400
TZNAME:EDT
DTSTART:20270314T070000
END:DAYLIGHT
BEGIN:STANDARD
TZOFFSETFROM:-0400
TZOFFSETTO:-0500
TZNAME:EST
DTSTART:20271107T060000
END:STANDARD
END:VTIMEZONE
BEGIN:VEVENT
DTSTART;TZID=America/New_York:20260801T000000
DTEND;TZID=America/New_York:20260801T235959
DTSTAMP:20260425T081714
CREATED:20260309T110000Z
LAST-MODIFIED:20260302T183801Z
UID:10000083-1785542400-1785628799@nilerodgers.net
SUMMARY:Temecula\, CA
DESCRIPTION:
URL:https://nilerodgers.net/event/temecula-ca/
LOCATION:Pechanga Resort Casino\, Temecula\, California\, United States
END:VEVENT
END:VCALENDAR